BEGIN:VCALENDAR
VERSION:2.0
PRODID:-//OhioMeansJobs - ECPv6.15.20//NONSGML v1.0//EN
CALSCALE:GREGORIAN
METHOD:PUBLISH
X-WR-CALNAME:OhioMeansJobs
X-ORIGINAL-URL:https://www.omjwork.com
X-WR-CALDESC:Events for OhioMeansJobs
REFRESH-INTERVAL;VALUE=DURATION:PT1H
X-Robots-Tag:noindex
X-PUBLISHED-TTL:PT1H
BEGIN:VTIMEZONE
TZID:America/New_York
BEGIN:DAYLIGHT
TZOFFSETFROM:-0500
TZOFFSETTO:-0400
TZNAME:EDT
DTSTART:20240310T070000
END:DAYLIGHT
BEGIN:STANDARD
TZOFFSETFROM:-0400
TZOFFSETTO:-0500
TZNAME:EST
DTSTART:20241103T060000
END:STANDARD
BEGIN:DAYLIGHT
TZOFFSETFROM:-0500
TZOFFSETTO:-0400
TZNAME:EDT
DTSTART:20250309T070000
END:DAYLIGHT
BEGIN:STANDARD
TZOFFSETFROM:-0400
TZOFFSETTO:-0500
TZNAME:EST
DTSTART:20251102T060000
END:STANDARD
BEGIN:DAYLIGHT
TZOFFSETFROM:-0500
TZOFFSETTO:-0400
TZNAME:EDT
DTSTART:20260308T070000
END:DAYLIGHT
BEGIN:STANDARD
TZOFFSETFROM:-0400
TZOFFSETTO:-0500
TZNAME:EST
DTSTART:20261101T060000
END:STANDARD
END:VTIMEZONE
BEGIN:VEVENT
DTSTART;VALUE=DATE:20251013
DTEND;VALUE=DATE:20251014
DTSTAMP:20260422T051453
CREATED:20250917T143759Z
LAST-MODIFIED:20250917T143759Z
UID:5222-1760313600-1760399999@www.omjwork.com
SUMMARY:Closed for Staff Training & Development
DESCRIPTION:Closed For Staff Training & Development.  \nWe will reopen on Tuesday\, October 14\, at 9:00 AM
URL:https://www.omjwork.com/event/closed-for-staff-training-development/
ATTACH;FMTTYPE=image/png:https://www.omjwork.com/wp-content/uploads/2025/09/Closed-for-Staff-Day-Facebook-Post.png
END:VEVENT
END:VCALENDAR