BEGIN:VCALENDAR
VERSION:2.0
PRODID:-//OhioMeansJobs - ECPv6.15.20//NONSGML v1.0//EN
CALSCALE:GREGORIAN
METHOD:PUBLISH
X-ORIGINAL-URL:https://www.omjwork.com
X-WR-CALDESC:Events for OhioMeansJobs
REFRESH-INTERVAL;VALUE=DURATION:PT1H
X-Robots-Tag:noindex
X-PUBLISHED-TTL:PT1H
BEGIN:VTIMEZONE
TZID:America/New_York
BEGIN:DAYLIGHT
TZOFFSETFROM:-0500
TZOFFSETTO:-0400
TZNAME:EDT
DTSTART:20250309T070000
END:DAYLIGHT
BEGIN:STANDARD
TZOFFSETFROM:-0400
TZOFFSETTO:-0500
TZNAME:EST
DTSTART:20251102T060000
END:STANDARD
BEGIN:DAYLIGHT
TZOFFSETFROM:-0500
TZOFFSETTO:-0400
TZNAME:EDT
DTSTART:20260308T070000
END:DAYLIGHT
BEGIN:STANDARD
TZOFFSETFROM:-0400
TZOFFSETTO:-0500
TZNAME:EST
DTSTART:20261101T060000
END:STANDARD
BEGIN:DAYLIGHT
TZOFFSETFROM:-0500
TZOFFSETTO:-0400
TZNAME:EDT
DTSTART:20270314T070000
END:DAYLIGHT
BEGIN:STANDARD
TZOFFSETFROM:-0400
TZOFFSETTO:-0500
TZNAME:EST
DTSTART:20271107T060000
END:STANDARD
END:VTIMEZONE
BEGIN:VEVENT
DTSTART;VALUE=DATE:20260101
DTEND;VALUE=DATE:20260102
DTSTAMP:20260421T191031
CREATED:20251212T164052Z
LAST-MODIFIED:20251212T164158Z
UID:5374-1767225600-1767311999@www.omjwork.com
SUMMARY:Closed in Observance of New Year’s Day
DESCRIPTION:Closed in Observance of New Year’s Day \nOhioMeansJobs Stark & Tuscarawas Counties will be closed on Thursday\, January 1\, in observance of New Year’s Day. \nWe wish you a happy\, healthy\, and prosperous new year! \nRegular business hours resume Friday\, January 2. \nOur office will be closed for New Year’s Day. We’ll reopen on January 2. Wishing you a Happy New Year!
URL:https://www.omjwork.com/event/closed-in-observance-of-new-years-day-2/
ATTACH;FMTTYPE=image/png:https://www.omjwork.com/wp-content/uploads/2025/12/HOLIDAY-CLOSED-Facebook-Post-NY.png
END:VEVENT
BEGIN:VEVENT
DTSTART;VALUE=DATE:20260119
DTEND;VALUE=DATE:20260120
DTSTAMP:20260421T191031
CREATED:20251216T191014Z
LAST-MODIFIED:20251222T153638Z
UID:5376-1768780800-1768867199@www.omjwork.com
SUMMARY:Closed in Observance of Martin Luther King Jr. Day
DESCRIPTION:OhioMeansJobs Stark & Tuscarawas Counties will be closed on Monday\, January 19\, in observance of Martin Luther King Jr. Day. \nToday we honor Dr. King’s legacy of equality\, service\, and unity. \nRegular business hours resume Tuesday\, January 20.
URL:https://www.omjwork.com/event/closed-in-observance-of-martin-luther-king-jr-day-2/
ATTACH;FMTTYPE=image/png:https://www.omjwork.com/wp-content/uploads/2025/12/HOLIDAY-CLOSED-Website.png
END:VEVENT
END:VCALENDAR