BEGIN:VCALENDAR
VERSION:2.0
PRODID:-//OhioMeansJobs - ECPv6.15.20//NONSGML v1.0//EN
CALSCALE:GREGORIAN
METHOD:PUBLISH
X-ORIGINAL-URL:https://www.omjwork.com
X-WR-CALDESC:Events for OhioMeansJobs
REFRESH-INTERVAL;VALUE=DURATION:PT1H
X-Robots-Tag:noindex
X-PUBLISHED-TTL:PT1H
BEGIN:VTIMEZONE
TZID:America/New_York
BEGIN:DAYLIGHT
TZOFFSETFROM:-0500
TZOFFSETTO:-0400
TZNAME:EDT
DTSTART:20250309T070000
END:DAYLIGHT
BEGIN:STANDARD
TZOFFSETFROM:-0400
TZOFFSETTO:-0500
TZNAME:EST
DTSTART:20251102T060000
END:STANDARD
BEGIN:DAYLIGHT
TZOFFSETFROM:-0500
TZOFFSETTO:-0400
TZNAME:EDT
DTSTART:20260308T070000
END:DAYLIGHT
BEGIN:STANDARD
TZOFFSETFROM:-0400
TZOFFSETTO:-0500
TZNAME:EST
DTSTART:20261101T060000
END:STANDARD
BEGIN:DAYLIGHT
TZOFFSETFROM:-0500
TZOFFSETTO:-0400
TZNAME:EDT
DTSTART:20270314T070000
END:DAYLIGHT
BEGIN:STANDARD
TZOFFSETFROM:-0400
TZOFFSETTO:-0500
TZNAME:EST
DTSTART:20271107T060000
END:STANDARD
END:VTIMEZONE
BEGIN:VEVENT
DTSTART;TZID=America/New_York:20260226T090000
DTEND;TZID=America/New_York:20260226T100000
DTSTAMP:20260422T072959
CREATED:20260217T210311Z
LAST-MODIFIED:20260217T210311Z
UID:5424-1772096400-1772100000@www.omjwork.com
SUMMARY:Closed for Staff Development
DESCRIPTION:Our office will be closed from 9:00 – 10:00 a.m. for staff development as we invest in training and professional growth to better serve our community. During this time\, our team will be enhancing their knowledge\, tools\, and resources to continue providing high-quality workforce services to local job seekers and employers. \nWe will resume regular business hours at 10:00 a.m. \nOur office is closed for staff development as we enhance our training to better serve our community.\n. We appreciate your patience and understanding as we work to improve the services and support we provide. \nFor urgent needs\, please visit our website for available online resources. We look forward to serving you soon.
URL:https://www.omjwork.com/event/closed-for-staff-development/
ATTACH;FMTTYPE=image/png:https://www.omjwork.com/wp-content/uploads/2026/02/Closed-for-Staff-Day-Website.png
END:VEVENT
END:VCALENDAR