BEGIN:VCALENDAR
VERSION:2.0
PRODID:-//OhioMeansJobs - ECPv6.15.20//NONSGML v1.0//EN
CALSCALE:GREGORIAN
METHOD:PUBLISH
X-WR-CALNAME:OhioMeansJobs
X-ORIGINAL-URL:https://www.omjwork.com
X-WR-CALDESC:Events for OhioMeansJobs
REFRESH-INTERVAL;VALUE=DURATION:PT1H
X-Robots-Tag:noindex
X-PUBLISHED-TTL:PT1H
BEGIN:VTIMEZONE
TZID:America/New_York
BEGIN:DAYLIGHT
TZOFFSETFROM:-0500
TZOFFSETTO:-0400
TZNAME:EDT
DTSTART:20240310T070000
END:DAYLIGHT
BEGIN:STANDARD
TZOFFSETFROM:-0400
TZOFFSETTO:-0500
TZNAME:EST
DTSTART:20241103T060000
END:STANDARD
BEGIN:DAYLIGHT
TZOFFSETFROM:-0500
TZOFFSETTO:-0400
TZNAME:EDT
DTSTART:20250309T070000
END:DAYLIGHT
BEGIN:STANDARD
TZOFFSETFROM:-0400
TZOFFSETTO:-0500
TZNAME:EST
DTSTART:20251102T060000
END:STANDARD
BEGIN:DAYLIGHT
TZOFFSETFROM:-0500
TZOFFSETTO:-0400
TZNAME:EDT
DTSTART:20260308T070000
END:DAYLIGHT
BEGIN:STANDARD
TZOFFSETFROM:-0400
TZOFFSETTO:-0500
TZNAME:EST
DTSTART:20261101T060000
END:STANDARD
END:VTIMEZONE
BEGIN:VEVENT
DTSTART;TZID=America/New_York:20250902T100000
DTEND;TZID=America/New_York:20250902T120000
DTSTAMP:20260419T093625
CREATED:20250905T161639Z
LAST-MODIFIED:20250905T161639Z
UID:5204-1756807200-1756814400@www.omjwork.com
SUMMARY:OhioMeansJobs at Goodwill-Ken Weber Community Campus
DESCRIPTION:We’re taking workforce services beyond our walls!\nComprehensive\, free services to support local job seekers at any stage of their career journey. Services include resume writing\, job matching\, interview preparation\, and assistance with unemployment claims. Veterans receive priority of service\, and additional support is available for individuals facing employment barriers.\nTools and resources include:\n• Resume creation and review\n• Job lead matching with local employers\n• Access to Big Interview (online interview prep platform)\n• Chromebook checkouts for video interviews\n• Support with applications\, onboarding\, and more\nExplore career options\, build your confidence\, and get connected with local job opportunities. \nOhioMeansJobs in the Community
URL:https://www.omjwork.com/event/ohiomeansjobs-at-goodwill-ken-weber-community-campus-5/
LOCATION:Ken Weber Community Campus\, 408 9th St. SW\, Canton\, 44707\, United States
CATEGORIES:Access Point Locations,Job Seekers
ATTACH;FMTTYPE=image/png:https://www.omjwork.com/wp-content/uploads/2024/09/Access-point-image-for-calendar-e1727376185127.png
END:VEVENT
BEGIN:VEVENT
DTSTART;TZID=America/New_York:20250903T100000
DTEND;TZID=America/New_York:20250903T120000
DTSTAMP:20260419T093625
CREATED:20250905T163806Z
LAST-MODIFIED:20250905T163806Z
UID:5207-1756893600-1756900800@www.omjwork.com
SUMMARY:OhioMeansJobs at the Library-Tuscarawas County
DESCRIPTION:We’re taking workforce services beyond our walls! \nComprehensive\, free services to support local job seekers at any stage of their career journey. \nServices include resume writing\, job matching\, interview preparation\, and assistance with unemployment claims. \nVeterans receive priority of service\, and additional support is available for individuals facing employment barriers. \nTools and resources include:\n• Resume creation\, review\, and optimization\n• Job lead matching with local employers\n• Access to Big Interview (online interview prep platform)\n• Chromebook checkouts for video interviews *In Center Only\n• Support with applications\, onboarding\, and more \nConnect with local employers\, explore new career opportunities\, and build the skills and confidence to succeed in today’s job market. Don’t miss this chance to take your career to the next level. \nOhioMeansJobs in the Community
URL:https://www.omjwork.com/event/ohiomeansjobs-at-the-library-tuscarawas-county-6/
LOCATION:Tuscarawas County Public Library\, 121 Fair Ave. NW\, New Philadelphia\, OH\, 44663\, United States
CATEGORIES:Access Point Locations,Job Seekers
ATTACH;FMTTYPE=image/png:https://www.omjwork.com/wp-content/uploads/2024/09/Access-point-image-for-calendar-e1727376185127.png
END:VEVENT
BEGIN:VEVENT
DTSTART;TZID=America/New_York:20250904T110000
DTEND;TZID=America/New_York:20250904T130000
DTSTAMP:20260419T093625
CREATED:20250905T164702Z
LAST-MODIFIED:20250905T164702Z
UID:5210-1756983600-1756990800@www.omjwork.com
SUMMARY:OhioMeansJobs at Alliance Commons
DESCRIPTION:We’re taking workforce services beyond our walls! \nComprehensive\, free services to support local job seekers at any stage of their career journey. \nServices include resume writing\, job matching\, interview preparation\, and assistance with unemployment claims. \nVeterans receive priority of service\, and additional support is available for individuals facing employment barriers. \nTools and resources include:\n• Resume creation\, review\, and optimization\n• Job lead matching with local employers\n• Access to Big Interview (online interview prep platform)\n• Chromebook checkouts for video interviews *In Center Only\n• Support with applications\, onboarding\, and more \nConnect with local employers\, explore new career opportunities\, and build the skills and confidence to succeed in today’s job market. Don’t miss this chance to take your career to the next level. \nOhioMeansJobs in the Community
URL:https://www.omjwork.com/event/ohiomeansjobs-at-alliance-commons-5/
LOCATION:Alliance Commons\, 405 S Linden Ave\, Alliance\, OH\, 44601\, United States
CATEGORIES:Access Point Locations,Job Seekers
ATTACH;FMTTYPE=image/png:https://www.omjwork.com/wp-content/uploads/2024/09/Access-point-image-for-calendar-e1727376185127.png
END:VEVENT
BEGIN:VEVENT
DTSTART;TZID=America/New_York:20250909T100000
DTEND;TZID=America/New_York:20250909T120000
DTSTAMP:20260419T093625
CREATED:20250905T163045Z
LAST-MODIFIED:20250905T163045Z
UID:5205-1757412000-1757419200@www.omjwork.com
SUMMARY:OhioMeansJobs at Goodwill-Ken Weber Community Campus
DESCRIPTION:We’re taking workforce services beyond our walls!\nComprehensive\, free services to support local job seekers at any stage of their career journey.\nServices include resume writing\, job matching\, interview preparation\, and assistance with unemployment claims.\nVeterans receive priority of service\, and additional support is available for individuals facing employment barriers.\nTools and resources include:\n• Resume creation\, review\, and optimization\n• Job lead matching with local employers\n• Access to Big Interview (online interview prep platform)\n• Chromebook checkouts for video interviews *In Center Only\n• Support with applications\, onboarding\, and more \nConnect with local employers\, explore new career opportunities\, and build the skills and confidence to succeed in today’s job market. Don’t miss this chance to take your career to the next level \nOhioMeansJobs in the Community
URL:https://www.omjwork.com/event/ohiomeansjobs-at-goodwill-ken-weber-community-campus-6/
LOCATION:Ken Weber Community Campus\, 408 9th St. SW\, Canton\, 44707\, United States
CATEGORIES:Access Point Locations,Job Seekers
ATTACH;FMTTYPE=image/png:https://www.omjwork.com/wp-content/uploads/2024/09/Access-point-image-for-calendar-e1727376185127.png
END:VEVENT
BEGIN:VEVENT
DTSTART;TZID=America/New_York:20250910T100000
DTEND;TZID=America/New_York:20250910T120000
DTSTAMP:20260419T093625
CREATED:20250905T164024Z
LAST-MODIFIED:20250905T164024Z
UID:5208-1757498400-1757505600@www.omjwork.com
SUMMARY:OhioMeansJobs at the Library-Tuscarawas County
DESCRIPTION:We’re taking workforce services beyond our walls! \nComprehensive\, free services to support local job seekers at any stage of their career journey. \nServices include resume writing\, job matching\, interview preparation\, and assistance with unemployment claims. \nVeterans receive priority of service\, and additional support is available for individuals facing employment barriers. \nTools and resources include:\n• Resume creation\, review\, and optimization\n• Job lead matching with local employers\n• Access to Big Interview (online interview prep platform)\n• Chromebook checkouts for video interviews *In Center Only\n• Support with applications\, onboarding\, and more \nConnect with local employers\, explore new career opportunities\, and build the skills and confidence to succeed in today’s job market. Don’t miss this chance to take your career to the next level. \nOhioMeansJobs in the Community
URL:https://www.omjwork.com/event/ohiomeansjobs-at-the-library-tuscarawas-county-7/
LOCATION:Tuscarawas County Public Library\, 121 Fair Ave. NW\, New Philadelphia\, OH\, 44663\, United States
CATEGORIES:Access Point Locations,Job Seekers
ATTACH;FMTTYPE=image/png:https://www.omjwork.com/wp-content/uploads/2024/09/Access-point-image-for-calendar-e1727376185127.png
END:VEVENT
BEGIN:VEVENT
DTSTART;TZID=America/New_York:20250910T130000
DTEND;TZID=America/New_York:20250910T150000
DTSTAMP:20260419T093625
CREATED:20250905T164338Z
LAST-MODIFIED:20250905T164338Z
UID:5209-1757509200-1757516400@www.omjwork.com
SUMMARY:OhioMeansJobs at Goodwill-New Philadelphia
DESCRIPTION:We’re taking workforce services beyond our walls! \nComprehensive\, free services to support local job seekers at any stage of their career journey. \nServices include resume writing\, job matching\, interview preparation\, and assistance with unemployment claims. \nVeterans receive priority of service\, and additional support is available for individuals facing employment barriers. \nTools and resources include:\n• Resume creation\, review\, and optimization\n• Job lead matching with local employers\n• Access to Big Interview (online interview prep platform)\n• Chromebook checkouts for video interviews *In Center Only\n• Support with applications\, onboarding\, and more \nConnect with local employers\, explore new career opportunities\, and build the skills and confidence to succeed in today’s job market. Don’t miss this chance to take your career to the next level. \nOhioMeansJobs in the Community
URL:https://www.omjwork.com/event/ohiomeansjobs-at-goodwill-new-philadelphia-2/
LOCATION:New Philadelphia Goodwill\, 260 Bluebell Dr.\, New Philadelphia\, OH\, 44663\, United States
CATEGORIES:Access Point Locations,Job Seekers
ATTACH;FMTTYPE=image/png:https://www.omjwork.com/wp-content/uploads/2024/09/Access-point-image-for-calendar-e1727376185127.png
END:VEVENT
BEGIN:VEVENT
DTSTART;TZID=America/New_York:20250911T110000
DTEND;TZID=America/New_York:20250911T130000
DTSTAMP:20260419T093625
CREATED:20250905T164859Z
LAST-MODIFIED:20250905T164859Z
UID:5211-1757588400-1757595600@www.omjwork.com
SUMMARY:OhioMeansJobs at Alliance Commons
DESCRIPTION:We’re taking workforce services beyond our walls! \nComprehensive\, free services to support local job seekers at any stage of their career journey. \nServices include resume writing\, job matching\, interview preparation\, and assistance with unemployment claims. \nVeterans receive priority of service\, and additional support is available for individuals facing employment barriers. \nTools and resources include:\n• Resume creation\, review\, and optimization\n• Job lead matching with local employers\n• Access to Big Interview (online interview prep platform)\n• Chromebook checkouts for video interviews *In Center Only\n• Support with applications\, onboarding\, and more \nConnect with local employers\, explore new career opportunities\, and build the skills and confidence to succeed in today’s job market. Don’t miss this chance to take your career to the next level. \nOhioMeansJobs in the Community
URL:https://www.omjwork.com/event/ohiomeansjobs-at-alliance-commons-6/
LOCATION:Alliance Commons\, 405 S Linden Ave\, Alliance\, OH\, 44601\, United States
CATEGORIES:Access Point Locations,Job Seekers
ATTACH;FMTTYPE=image/png:https://www.omjwork.com/wp-content/uploads/2024/09/Access-point-image-for-calendar-e1727376185127.png
END:VEVENT
BEGIN:VEVENT
DTSTART;TZID=America/New_York:20250916T100000
DTEND;TZID=America/New_York:20250916T120000
DTSTAMP:20260419T093625
CREATED:20250905T163439Z
LAST-MODIFIED:20250905T163439Z
UID:5206-1758016800-1758024000@www.omjwork.com
SUMMARY:OhioMeansJobs at Goodwill-Ken Weber Community Campus
DESCRIPTION:We’re taking workforce services beyond our walls! \nComprehensive\, free services to support local job seekers at any stage of their career journey. \nServices include resume writing\, job matching\, interview preparation\, and assistance with unemployment claims. \nVeterans receive priority of service\, and additional support is available for individuals facing employment barriers. \nTools and resources include:\n• Resume creation\, review\, and optimization\n• Job lead matching with local employers\n• Access to Big Interview (online interview prep platform)\n• Chromebook checkouts for video interviews *In Center Only\n• Support with applications\, onboarding\, and more \nConnect with local employers\, explore new career opportunities\, and build the skills and confidence to succeed in today’s job market. Don’t miss this chance to take your career to the next level. \nOhioMeansJobs in the Community
URL:https://www.omjwork.com/event/ohiomeansjobs-at-goodwill-ken-weber-community-campus-7/
LOCATION:Ken Weber Community Campus\, 408 9th St. SW\, Canton\, 44707\, United States
CATEGORIES:Access Point Locations,Job Seekers
ATTACH;FMTTYPE=image/png:https://www.omjwork.com/wp-content/uploads/2024/09/Access-point-image-for-calendar-e1727376185127.png
END:VEVENT
BEGIN:VEVENT
DTSTART;TZID=America/New_York:20250916T100000
DTEND;TZID=America/New_York:20250916T120000
DTSTAMP:20260419T093625
CREATED:20250916T201343Z
LAST-MODIFIED:20250916T201343Z
UID:5213-1758016800-1758024000@www.omjwork.com
SUMMARY:OhioMeansJobs at the Library–Claymont
DESCRIPTION:We’re taking workforce services beyond our walls!\n\n\nComprehensive\, free services to support local job seekers at any stage of their career journey. Services include resume writing\, job matching\, interview preparation\, and assistance with unemployment claims. Veterans receive priority of service\, and additional support is available for individuals facing employment barriers.\n\n\nTools and resources include:\n• Resume creation and review\n• Job lead matching with local employers\n• Access to Big Interview (online interview prep platform)\n• Chromebook checkouts for video interviews\n• Support with applications\, onboarding\, and more\n\n\n\nExplore career options\, build your confidence\, and get connected with local job opportunities. \nOhioMeansJobs in the Community
URL:https://www.omjwork.com/event/ohiomeansjobs-at-the-library-claymont-2/
LOCATION:Claymont Public Library\, 15 N 4th St\, Dennison\, OH\, 44621\, United States
CATEGORIES:Access Point Locations,Job Seekers
ATTACH;FMTTYPE=image/png:https://www.omjwork.com/wp-content/uploads/2024/09/Access-point-image-for-calendar-e1727376185127.png
END:VEVENT
BEGIN:VEVENT
DTSTART;TZID=America/New_York:20250917T100000
DTEND;TZID=America/New_York:20250917T120000
DTSTAMP:20260419T093625
CREATED:20250916T201703Z
LAST-MODIFIED:20250916T201703Z
UID:5214-1758103200-1758110400@www.omjwork.com
SUMMARY:OhioMeansJobs at the Library-Tuscarawas County
DESCRIPTION:We’re taking workforce services beyond our walls! \nComprehensive\, free services to support local job seekers at any stage of their career journey. \nServices include resume writing\, job matching\, interview preparation\, and assistance with unemployment claims. \nVeterans receive priority of service\, and additional support is available for individuals facing employment barriers. \nTools and resources include:\n• Resume creation\, review\, and optimization\n• Job lead matching with local employers\n• Access to Big Interview (online interview prep platform)\n• Chromebook checkouts for video interviews *In Center Only\n• Support with applications\, onboarding\, and more \nConnect with local employers\, explore new career opportunities\, and build the skills and confidence to succeed in today’s job market. Don’t miss this chance to take your career to the next level. \nOhioMeansJobs in the Community
URL:https://www.omjwork.com/event/ohiomeansjobs-at-the-library-tuscarawas-county-8/
LOCATION:Tuscarawas County Public Library\, 121 Fair Ave. NW\, New Philadelphia\, OH\, 44663\, United States
CATEGORIES:Access Point Locations,Job Seekers
ATTACH;FMTTYPE=image/png:https://www.omjwork.com/wp-content/uploads/2024/09/Access-point-image-for-calendar-e1727376185127.png
END:VEVENT
BEGIN:VEVENT
DTSTART;TZID=America/New_York:20250918T110000
DTEND;TZID=America/New_York:20250918T130000
DTSTAMP:20260419T093625
CREATED:20250916T201919Z
LAST-MODIFIED:20250916T201919Z
UID:5215-1758193200-1758200400@www.omjwork.com
SUMMARY:OhioMeansJobs at Alliance Commons
DESCRIPTION:We’re taking workforce services beyond our walls! \nComprehensive\, free services to support local job seekers at any stage of their career journey. \nServices include resume writing\, job matching\, interview preparation\, and assistance with unemployment claims. \nVeterans receive priority of service\, and additional support is available for individuals facing employment barriers. \nTools and resources include:\n• Resume creation\, review\, and optimization\n• Job lead matching with local employers\n• Access to Big Interview (online interview prep platform)\n• Chromebook checkouts for video interviews *In Center Only\n• Support with applications\, onboarding\, and more \nConnect with local employers\, explore new career opportunities\, and build the skills and confidence to succeed in today’s job market. Don’t miss this chance to take your career to the next level. \nOhioMeansJobs in the Community
URL:https://www.omjwork.com/event/ohiomeansjobs-at-alliance-commons-7/
LOCATION:Alliance Commons\, 405 S Linden Ave\, Alliance\, OH\, 44601\, United States
CATEGORIES:Access Point Locations,Job Seekers
ATTACH;FMTTYPE=image/png:https://www.omjwork.com/wp-content/uploads/2024/09/Access-point-image-for-calendar-e1727376185127.png
END:VEVENT
BEGIN:VEVENT
DTSTART;TZID=America/New_York:20250918T133000
DTEND;TZID=America/New_York:20250918T153000
DTSTAMP:20260419T093625
CREATED:20250916T202218Z
LAST-MODIFIED:20250916T202218Z
UID:5216-1758202200-1758209400@www.omjwork.com
SUMMARY:OhioMeansJobs at the Library-Canal Fulton
DESCRIPTION:We’re taking workforce services beyond our walls! \nComprehensive\, free services to support local job seekers at any stage of their career journey. \nServices include resume writing\, job matching\, interview preparation\, and assistance with unemployment claims. \nVeterans receive priority of service\, and additional support is available for individuals facing employment barriers. \nTools and resources include:\n• Resume creation\, review\, and optimization\n• Job lead matching with local employers\n• Access to Big Interview (online interview prep platform)\n• Chromebook checkouts for video interviews *In Center Only\n• Support with applications\, onboarding\, and more \nConnect with local employers\, explore new career opportunities\, and build the skills and confidence to succeed in today’s job market. Don’t miss this chance to take your career to the next level. \nOhioMeansJobs in the Community
URL:https://www.omjwork.com/event/ohiomeansjobs-at-the-library-canal-fulton-2/
LOCATION:Canal Fulton Public Library\, 154 Market St. E\, Canal Fulton\, OH\, 44614\, United States
CATEGORIES:Access Point Locations,Job Seekers
ATTACH;FMTTYPE=image/png:https://www.omjwork.com/wp-content/uploads/2024/09/Access-point-image-for-calendar-e1727376185127.png
END:VEVENT
BEGIN:VEVENT
DTSTART;TZID=America/New_York:20250923T100000
DTEND;TZID=America/New_York:20250923T120000
DTSTAMP:20260419T093625
CREATED:20250916T202453Z
LAST-MODIFIED:20250916T202453Z
UID:5217-1758621600-1758628800@www.omjwork.com
SUMMARY:OhioMeansJobs at Goodwill-Ken Weber Community Campus
DESCRIPTION:We’re taking workforce services beyond our walls!\nComprehensive\, free services to support local job seekers at any stage of their career journey.\nServices include resume writing\, job matching\, interview preparation\, and assistance with unemployment claims.\nVeterans receive priority of service\, and additional support is available for individuals facing employment barriers.\nTools and resources include:\n• Resume creation\, review\, and optimization\n• Job lead matching with local employers\n• Access to Big Interview (online interview prep platform)\n• Chromebook checkouts for video interviews *In Center Only\n• Support with applications\, onboarding\, and more \nConnect with local employers\, explore new career opportunities\, and build the skills and confidence to succeed in today’s job market. Don’t miss this chance to take your career to the next level. \nOhioMeansJobs in the Community
URL:https://www.omjwork.com/event/ohiomeansjobs-at-goodwill-ken-weber-community-campus-8/
LOCATION:Ken Weber Community Campus\, 408 9th St. SW\, Canton\, 44707\, United States
CATEGORIES:Access Point Locations,Job Seekers
ATTACH;FMTTYPE=image/png:https://www.omjwork.com/wp-content/uploads/2024/09/Access-point-image-for-calendar-e1727376185127.png
END:VEVENT
BEGIN:VEVENT
DTSTART;TZID=America/New_York:20250924T100000
DTEND;TZID=America/New_York:20250924T140000
DTSTAMP:20260419T093625
CREATED:20250919T172540Z
LAST-MODIFIED:20250919T172540Z
UID:5224-1758708000-1758722400@www.omjwork.com
SUMMARY:OhioMeansJobs at the Library-Tuscarawas County
DESCRIPTION:We’re taking workforce services beyond our walls!\nComprehensive\, free services to support local job seekers at any stage of their career journey.\nServices include resume writing\, job matching\, interview preparation\, and assistance with unemployment claims.\nVeterans receive priority of service\, and additional support is available for individuals facing employment barriers.\nTools and resources include:\n• Resume creation\, review\, and optimization\n• Job lead matching with local employers\n• Access to Big Interview (online interview prep platform)\n• Chromebook checkouts for video interviews *In Center Only\n• Support with applications\, onboarding\, and more \nConnect with local employers\, explore new career opportunities\, and build the skills and confidence to succeed in today’s job market. Don’t miss this chance to take your career to the next level. \nOhioMeansJobs in the Community
URL:https://www.omjwork.com/event/ohiomeansjobs-at-the-library-tuscarawas-county-9/
LOCATION:Tuscarawas County Public Library\, 121 Fair Ave. NW\, New Philadelphia\, OH\, 44663\, United States
CATEGORIES:Access Point Locations,Job Seekers
ATTACH;FMTTYPE=image/png:https://www.omjwork.com/wp-content/uploads/2024/09/Access-point-image-for-calendar-e1727376185127.png
END:VEVENT
BEGIN:VEVENT
DTSTART;TZID=America/New_York:20250925T110000
DTEND;TZID=America/New_York:20250925T130000
DTSTAMP:20260419T093625
CREATED:20250919T172902Z
LAST-MODIFIED:20250919T172902Z
UID:5225-1758798000-1758805200@www.omjwork.com
SUMMARY:OhioMeansJobs at Alliance Commons
DESCRIPTION:We’re taking workforce services beyond our walls!\nComprehensive\, free services to support local job seekers at any stage of their career journey.\nServices include resume writing\, job matching\, interview preparation\, and assistance with unemployment claims.\nVeterans receive priority of service\, and additional support is available for individuals facing employment barriers.\nTools and resources include:\n• Resume creation\, review\, and optimization\n• Job lead matching with local employers\n• Access to Big Interview (online interview prep platform)\n• Chromebook checkouts for video interviews *In Center Only\n• Support with applications\, onboarding\, and more \nConnect with local employers\, explore new career opportunities\, and build the skills and confidence to succeed in today’s job market. Don’t miss this chance to take your career to the next level. \nOhioMeansJobs in the Community
URL:https://www.omjwork.com/event/ohiomeansjobs-at-alliance-commons-8/
LOCATION:Alliance Commons\, 405 S Linden Ave\, Alliance\, OH\, 44601\, United States
CATEGORIES:Access Point Locations,Job Seekers
ATTACH;FMTTYPE=image/png:https://www.omjwork.com/wp-content/uploads/2024/09/Access-point-image-for-calendar-e1727376185127.png
END:VEVENT
BEGIN:VEVENT
DTSTART;TZID=America/New_York:20250930T100000
DTEND;TZID=America/New_York:20250930T120000
DTSTAMP:20260419T093625
CREATED:20250916T202719Z
LAST-MODIFIED:20250916T202719Z
UID:5218-1759226400-1759233600@www.omjwork.com
SUMMARY:OhioMeansJobs at Goodwill-Ken Weber Community Campus
DESCRIPTION:We’re taking workforce services beyond our walls! \nComprehensive\, free services to support local job seekers at any stage of their career journey. \nServices include resume writing\, job matching\, interview preparation\, and assistance with unemployment claims. \nVeterans receive priority of service\, and additional support is available for individuals facing employment barriers. \nTools and resources include:\n• Resume creation\, review\, and optimization\n• Job lead matching with local employers\n• Access to Big Interview (online interview prep platform)\n• Chromebook checkouts for video interviews *In Center Only\n• Support with applications\, onboarding\, and more \nConnect with local employers\, explore new career opportunities\, and build the skills and confidence to succeed in today’s job market. Don’t miss this chance to take your career to the next level. \nOhioMeansJobs in the Community
URL:https://www.omjwork.com/event/ohiomeansjobs-at-goodwill-ken-weber-community-campus-9/
LOCATION:Ken Weber Community Campus\, 408 9th St. SW\, Canton\, 44707\, United States
CATEGORIES:Access Point Locations,Job Seekers
ATTACH;FMTTYPE=image/png:https://www.omjwork.com/wp-content/uploads/2024/09/Access-point-image-for-calendar-e1727376185127.png
END:VEVENT
END:VCALENDAR