BEGIN:VCALENDAR
VERSION:2.0
PRODID:-//OhioMeansJobs - ECPv6.15.20//NONSGML v1.0//EN
CALSCALE:GREGORIAN
METHOD:PUBLISH
X-WR-CALNAME:OhioMeansJobs
X-ORIGINAL-URL:https://www.omjwork.com
X-WR-CALDESC:Events for OhioMeansJobs
REFRESH-INTERVAL;VALUE=DURATION:PT1H
X-Robots-Tag:noindex
X-PUBLISHED-TTL:PT1H
BEGIN:VTIMEZONE
TZID:America/New_York
BEGIN:DAYLIGHT
TZOFFSETFROM:-0500
TZOFFSETTO:-0400
TZNAME:EDT
DTSTART:20240310T070000
END:DAYLIGHT
BEGIN:STANDARD
TZOFFSETFROM:-0400
TZOFFSETTO:-0500
TZNAME:EST
DTSTART:20241103T060000
END:STANDARD
BEGIN:DAYLIGHT
TZOFFSETFROM:-0500
TZOFFSETTO:-0400
TZNAME:EDT
DTSTART:20250309T070000
END:DAYLIGHT
BEGIN:STANDARD
TZOFFSETFROM:-0400
TZOFFSETTO:-0500
TZNAME:EST
DTSTART:20251102T060000
END:STANDARD
BEGIN:DAYLIGHT
TZOFFSETFROM:-0500
TZOFFSETTO:-0400
TZNAME:EDT
DTSTART:20260308T070000
END:DAYLIGHT
BEGIN:STANDARD
TZOFFSETFROM:-0400
TZOFFSETTO:-0500
TZNAME:EST
DTSTART:20261101T060000
END:STANDARD
END:VTIMEZONE
BEGIN:VEVENT
DTSTART;TZID=America/New_York:20251029T110000
DTEND;TZID=America/New_York:20251029T140000
DTSTAMP:20260425T175829
CREATED:20251024T141353Z
LAST-MODIFIED:20251024T141353Z
UID:5332-1761735600-1761746400@www.omjwork.com
SUMMARY:Spectrum Hiring Event
DESCRIPTION:Looking for a full-time career with great benefits?\n\nSpectrum is hiring Customer Service Representatives (Technical Support) and will be hosting an on-site hiring event at OhioMeansJobs Stark County!\n\nWednesday\, October 2911:00 a.m. – 2:00 p.m.\n\nPosition Details:Second Shift opportunities\n$20.00/hour + $0.75/hour shift differential (for shifts starting after 11:00 a.m.)\nFull-time roles with comprehensive benefits\nThis is a great opportunity to connect directly with Spectrum and take the next step toward a rewarding career in technical support.\n\nLearn more: Visit www.OhioMeansJobs.comand enter Job ID 292637799 in the search box.\n\nOMJ Stark is hosting a Hiring Event\n\nDon’t miss your chance to start your new career with Spectrum!
URL:https://www.omjwork.com/event/spectrum-hiring-event-2/
LOCATION:Stark County OhioMeansJobs Center\, 822 30th Street\, Canton\, 44709\, United States
CATEGORIES:Job Seekers
ATTACH;FMTTYPE=image/png:https://www.omjwork.com/wp-content/uploads/2025/10/Google-Event-.png
END:VEVENT
END:VCALENDAR