BEGIN:VCALENDAR
VERSION:2.0
PRODID:-//OhioMeansJobs - ECPv6.15.20//NONSGML v1.0//EN
CALSCALE:GREGORIAN
METHOD:PUBLISH
X-WR-CALNAME:OhioMeansJobs
X-ORIGINAL-URL:https://www.omjwork.com
X-WR-CALDESC:Events for OhioMeansJobs
REFRESH-INTERVAL;VALUE=DURATION:PT1H
X-Robots-Tag:noindex
X-PUBLISHED-TTL:PT1H
BEGIN:VTIMEZONE
TZID:America/New_York
BEGIN:DAYLIGHT
TZOFFSETFROM:-0500
TZOFFSETTO:-0400
TZNAME:EDT
DTSTART:20240310T070000
END:DAYLIGHT
BEGIN:STANDARD
TZOFFSETFROM:-0400
TZOFFSETTO:-0500
TZNAME:EST
DTSTART:20241103T060000
END:STANDARD
BEGIN:DAYLIGHT
TZOFFSETFROM:-0500
TZOFFSETTO:-0400
TZNAME:EDT
DTSTART:20250309T070000
END:DAYLIGHT
BEGIN:STANDARD
TZOFFSETFROM:-0400
TZOFFSETTO:-0500
TZNAME:EST
DTSTART:20251102T060000
END:STANDARD
BEGIN:DAYLIGHT
TZOFFSETFROM:-0500
TZOFFSETTO:-0400
TZNAME:EDT
DTSTART:20260308T070000
END:DAYLIGHT
BEGIN:STANDARD
TZOFFSETFROM:-0400
TZOFFSETTO:-0500
TZNAME:EST
DTSTART:20261101T060000
END:STANDARD
END:VTIMEZONE
BEGIN:VEVENT
DTSTART;TZID=America/New_York:20250924T120000
DTEND;TZID=America/New_York:20250924T160000
DTSTAMP:20260424T141540
CREATED:20250917T141505Z
LAST-MODIFIED:20250917T141505Z
UID:5220-1758715200-1758729600@www.omjwork.com
SUMMARY:Long John Silver's Hiring Event
DESCRIPTION:Exciting Career Opportunities at Long John Silver’s – Hiring Event!\n\nLong John Silver’s is hosting a Hiring Event on Wednesday\, September 24\, 2025\, from 12:00 PM to 4:00 PM at OhioMeansJobs Stark County (822 30th St. NW\, Canton\, OH 44709). Join us to explore multiple full-time and part-time positions at our brand-new location next to Taco Bell\, 2625 Maret St. NE\, Canton!\n\nWe’re looking for enthusiastic\, motivated individuals to fill the following roles:\nAssistant Manager (Full-Time) – Up to $41\,000/yearShift Leader (Full-Time) – $14-$15/hourTeam Member (Full-Time/Part-Time) – $12.50-$13/hour\n\nWhy Join Us?\nCompetitive pay and benefitsOpportunities for growth and advancementA fun\, fast-paced work environment\n\nDon’t miss out on this fantastic opportunity! For a detailed list of job descriptions and to apply\, visit www.OhioMeansJobs.com then enter Long John Silver’s OMJST in the search bar.\n\n\nLong John Silver’s – Hiring Even\nCome meet our team\, learn more about the positions\, and take the next step in your career with Long John Silver’s! \nSee you there
URL:https://www.omjwork.com/event/long-john-silvers-hiring-event/
LOCATION:Stark County OhioMeansJobs Center\, 822 30th Street\, Canton\, 44709\, United States
CATEGORIES:Job Seekers
ATTACH;FMTTYPE=image/png:https://www.omjwork.com/wp-content/uploads/2025/09/HIRING-Event-2.png
END:VEVENT
END:VCALENDAR