BEGIN:VCALENDAR
VERSION:2.0
PRODID:-//OhioMeansJobs - ECPv6.15.20//NONSGML v1.0//EN
CALSCALE:GREGORIAN
METHOD:PUBLISH
X-WR-CALNAME:OhioMeansJobs
X-ORIGINAL-URL:https://www.omjwork.com
X-WR-CALDESC:Events for OhioMeansJobs
REFRESH-INTERVAL;VALUE=DURATION:PT1H
X-Robots-Tag:noindex
X-PUBLISHED-TTL:PT1H
BEGIN:VTIMEZONE
TZID:America/New_York
BEGIN:DAYLIGHT
TZOFFSETFROM:-0500
TZOFFSETTO:-0400
TZNAME:EDT
DTSTART:20250309T070000
END:DAYLIGHT
BEGIN:STANDARD
TZOFFSETFROM:-0400
TZOFFSETTO:-0500
TZNAME:EST
DTSTART:20251102T060000
END:STANDARD
BEGIN:DAYLIGHT
TZOFFSETFROM:-0500
TZOFFSETTO:-0400
TZNAME:EDT
DTSTART:20260308T070000
END:DAYLIGHT
BEGIN:STANDARD
TZOFFSETFROM:-0400
TZOFFSETTO:-0500
TZNAME:EST
DTSTART:20261101T060000
END:STANDARD
BEGIN:DAYLIGHT
TZOFFSETFROM:-0500
TZOFFSETTO:-0400
TZNAME:EDT
DTSTART:20270314T070000
END:DAYLIGHT
BEGIN:STANDARD
TZOFFSETFROM:-0400
TZOFFSETTO:-0500
TZNAME:EST
DTSTART:20271107T060000
END:STANDARD
END:VTIMEZONE
BEGIN:VEVENT
DTSTART;TZID=America/New_York:20260303T130000
DTEND;TZID=America/New_York:20260303T150000
DTSTAMP:20260420T155048
CREATED:20260302T170905Z
LAST-MODIFIED:20260302T170905Z
UID:5436-1772542800-1772550000@www.omjwork.com
SUMMARY:OhioMeansJobs at Goodwill-Ken Weber Community Campus
DESCRIPTION:We’re taking workforce services beyond our walls! \nComprehensive\, free services to support local job seekers at any stage of their career journey. \nServices include resume writing\, job matching\, interview preparation\, and assistance with unemployment claims. \nVeterans receive priority of service\, and additional support is available for individuals facing employment barriers. \nTools and resources include:\n• Resume creation\, review\, and optimization\n• Job lead matching with local employers\n• Access to Big Interview (online interview prep platform)\n• Chromebook checkouts for video interviews *In Center Only\n• Support with applications\, onboarding\, and more\nConnect with local employers\, explore new career opportunities\, and build the skills and confidence to succeed in today’s job market. Don’t miss this chance to take your career to the next level. \nOhioMeansJobs in the Community
URL:https://www.omjwork.com/event/ohiomeansjobs-at-goodwill-ken-weber-community-campus-22/
LOCATION:Stark Library\, 715 Market Ave N\, North Canton\, OH\, 44702\, United States
CATEGORIES:Access Point Locations,Job Seekers
ATTACH;FMTTYPE=image/png:https://www.omjwork.com/wp-content/uploads/2024/09/Access-point-image-for-calendar-e1727376185127.png
END:VEVENT
BEGIN:VEVENT
DTSTART;TZID=America/New_York:20260304T100000
DTEND;TZID=America/New_York:20260304T120000
DTSTAMP:20260420T155048
CREATED:20260302T171056Z
LAST-MODIFIED:20260302T171056Z
UID:5437-1772618400-1772625600@www.omjwork.com
SUMMARY:OhioMeansJobs at the Library-Tuscarawas County
DESCRIPTION:We’re taking workforce services beyond our walls! \nComprehensive\, free services to support local job seekers at any stage of their career journey. \nServices include resume writing\, job matching\, interview preparation\, and assistance with unemployment claims. \nVeterans receive priority of service\, and additional support is available for individuals facing employment barriers. \nTools and resources include:\n• Resume creation\, review\, and optimization\n• Job lead matching with local employers\n• Access to Big Interview (online interview prep platform)\n• Chromebook checkouts for video interviews *In Center Only\n• Support with applications\, onboarding\, and more\nConnect with local employers\, explore new career opportunities\, and build the skills and confidence to succeed in today’s job market. Don’t miss this chance to take your career to the next level. \nOhioMeansJobs in the Community
URL:https://www.omjwork.com/event/ohiomeansjobs-at-the-library-tuscarawas-county-21/
LOCATION:Tuscarawas County Public Library\, 121 Fair Ave. NW\, New Philadelphia\, OH\, 44663\, United States
CATEGORIES:Access Point Locations,Job Seekers
ATTACH;FMTTYPE=image/png:https://www.omjwork.com/wp-content/uploads/2024/09/Access-point-image-for-calendar-e1727376185127.png
END:VEVENT
BEGIN:VEVENT
DTSTART;TZID=America/New_York:20260309T110000
DTEND;TZID=America/New_York:20260309T130000
DTSTAMP:20260420T155048
CREATED:20260302T170443Z
LAST-MODIFIED:20260302T170443Z
UID:5434-1773054000-1773061200@www.omjwork.com
SUMMARY:AZZ Galvanizing Canton East Hiring Event
DESCRIPTION:NOW HIRING IN CANTON!\nAZZ Galvanizing – Canton East is looking for motivated individuals ready to start (or grow!) their careers.\n\nHiring Event Location:OhioMeansJobs Stark County822 30th St. NW\, Canton\, OH 44709\nMonday\, March 911:00 a.m. – 1:00 p.m.\n\nIf you’re looking for a full-time opportunity with benefits\, this is your chance!\n\nNow Hiring:\nMaintenance TechnicianProduction Workers (1st & 2nd Shifts)Shipping & Receiving / Quality Control Clerk\n\nCompetitive opportunities. Stable\, full-time work. Great benefits.\n\nDon’t wait—take the first step toward your next career move today!\n\nVisit www.OhioMeansJobs.com\nEnter AZZ OMJST in the search boxSelect the position to view full job details\n\nCome prepared. Bring your resume (need a resume\, we can help). Be ready to make your move.\n\n\nJoin us for a hiring event with on-the-spot interviews and multiple job opportunities available.\nYour next opportunity starts March 9 — we’ll see you there!
URL:https://www.omjwork.com/event/azz-galvanizing-canton-east-hiring-event/
LOCATION:Stark County OhioMeansJobs Center\, 822 30th Street\, Canton\, 44709\, United States
CATEGORIES:Job Seekers
ATTACH;FMTTYPE=image/png:https://www.omjwork.com/wp-content/uploads/2026/03/Hiring-Event-Facebook-Post.png
END:VEVENT
BEGIN:VEVENT
DTSTART;TZID=America/New_York:20260311T130000
DTEND;TZID=America/New_York:20260311T150000
DTSTAMP:20260420T155048
CREATED:20260302T171440Z
LAST-MODIFIED:20260302T171440Z
UID:5439-1773234000-1773241200@www.omjwork.com
SUMMARY:OhioMeansJobs at Goodwill-New Philadelphia
DESCRIPTION:We’re taking workforce services beyond our walls! \nComprehensive\, free services to support local job seekers at any stage of their career journey. \nServices include resume writing\, job matching\, interview preparation\, and assistance with unemployment claims. \nVeterans receive priority of service\, and additional support is available for individuals facing employment barriers. \nTools and resources include:\n• Resume creation\, review\, and optimization\n• Job lead matching with local employers\n• Access to Big Interview (online interview prep platform)\n• Chromebook checkouts for video interviews *In Center Only\n• Support with applications\, onboarding\, and more\nConnect with local employers\, explore new career opportunities\, and build the skills and confidence to succeed in today’s job market. Don’t miss this chance to take your career to the next level.
URL:https://www.omjwork.com/event/free-workforce-services-for-job-seekers-of-all-levels-including-resume-help-job-matching-interview-prep-and-support-for-veterans-and-those-facing-employment-barriers/
LOCATION:New Philadelphia Goodwill\, 260 Bluebell Dr.\, New Philadelphia\, OH\, 44663\, United States
CATEGORIES:Access Point Locations,Job Seekers
ATTACH;FMTTYPE=image/png:https://www.omjwork.com/wp-content/uploads/2024/09/Access-point-image-for-calendar-e1727376185127.png
END:VEVENT
BEGIN:VEVENT
DTSTART;TZID=America/New_York:20260311T143000
DTEND;TZID=America/New_York:20260311T163000
DTSTAMP:20260420T155048
CREATED:20260302T171250Z
LAST-MODIFIED:20260302T171250Z
UID:5438-1773239400-1773246600@www.omjwork.com
SUMMARY:OhioMeansJobs at the Library–Stark Main
DESCRIPTION:We’re taking workforce services beyond our walls! \nComprehensive\, free services to support local job seekers at any stage of their career journey. \nServices include resume writing\, job matching\, interview preparation\, and assistance with unemployment claims. \nVeterans receive priority of service\, and additional support is available for individuals facing employment barriers. \nTools and resources include:\n• Resume creation\, review\, and optimization\n• Job lead matching with local employers\n• Access to Big Interview (online interview prep platform)\n• Chromebook checkouts for video interviews *In Center Only\n• Support with applications\, onboarding\, and more\nConnect with local employers\, explore new career opportunities\, and build the skills and confidence to succeed in today’s job market. Don’t miss this chance to take your career to the next level. \nOhioMeansJobs in the Community
URL:https://www.omjwork.com/event/ohiomeansjobs-at-the-library-stark-main-6/
LOCATION:Stark Library\, 715 Market Ave N\, North Canton\, OH\, 44702\, United States
CATEGORIES:Access Point Locations,Job Seekers
ATTACH;FMTTYPE=image/png:https://www.omjwork.com/wp-content/uploads/2024/09/Access-point-image-for-calendar-e1727376185127.png
END:VEVENT
BEGIN:VEVENT
DTSTART;TZID=America/New_York:20260317T130000
DTEND;TZID=America/New_York:20260317T150000
DTSTAMP:20260420T155048
CREATED:20260302T171620Z
LAST-MODIFIED:20260302T171620Z
UID:5440-1773752400-1773759600@www.omjwork.com
SUMMARY:OhioMeansJobs at Goodwill-Ken Weber Community Campus
DESCRIPTION:We’re taking workforce services beyond our walls! \nComprehensive\, free services to support local job seekers at any stage of their career journey. \nServices include resume writing\, job matching\, interview preparation\, and assistance with unemployment claims. \nVeterans receive priority of service\, and additional support is available for individuals facing employment barriers. \nTools and resources include:\n• Resume creation\, review\, and optimization\n• Job lead matching with local employers\n• Access to Big Interview (online interview prep platform)\n• Chromebook checkouts for video interviews *In Center Only\n• Support with applications\, onboarding\, and more\nConnect with local employers\, explore new career opportunities\, and build the skills and confidence to succeed in today’s job market. Don’t miss this chance to take your career to the next level.
URL:https://www.omjwork.com/event/ohiomeansjobs-at-goodwill-ken-weber-community-campus-23/
LOCATION:Ken Weber Community Campus\, 408 9th St. SW\, Canton\, 44707\, United States
CATEGORIES:Access Point Locations,Job Seekers
ATTACH;FMTTYPE=image/png:https://www.omjwork.com/wp-content/uploads/2024/09/Access-point-image-for-calendar-e1727376185127.png
END:VEVENT
BEGIN:VEVENT
DTSTART;TZID=America/New_York:20260318T100000
DTEND;TZID=America/New_York:20260318T120000
DTSTAMP:20260420T155048
CREATED:20260302T171758Z
LAST-MODIFIED:20260302T171758Z
UID:5441-1773828000-1773835200@www.omjwork.com
SUMMARY:OhioMeansJobs at the Library-Tuscarawas County
DESCRIPTION:We’re taking workforce services beyond our walls! \nComprehensive\, free services to support local job seekers at any stage of their career journey. \nServices include resume writing\, job matching\, interview preparation\, and assistance with unemployment claims. \nVeterans receive priority of service\, and additional support is available for individuals facing employment barriers. \nTools and resources include:\n• Resume creation\, review\, and optimization\n• Job lead matching with local employers\n• Access to Big Interview (online interview prep platform)\n• Chromebook checkouts for video interviews *In Center Only\n• Support with applications\, onboarding\, and more\nConnect with local employers\, explore new career opportunities\, and build the skills and confidence to succeed in today’s job market. Don’t miss this chance to take your career to the next level.
URL:https://www.omjwork.com/event/ohiomeansjobs-at-the-library-tuscarawas-county-22/
LOCATION:Tuscarawas County Public Library\, 121 Fair Ave. NW\, New Philadelphia\, OH\, 44663\, United States
CATEGORIES:Access Point Locations,Job Seekers
ATTACH;FMTTYPE=image/png:https://www.omjwork.com/wp-content/uploads/2024/09/Access-point-image-for-calendar-e1727376185127.png
END:VEVENT
BEGIN:VEVENT
DTSTART;TZID=America/New_York:20260323T100000
DTEND;TZID=America/New_York:20260323T120000
DTSTAMP:20260420T155048
CREATED:20260302T171941Z
LAST-MODIFIED:20260302T171941Z
UID:5442-1774260000-1774267200@www.omjwork.com
SUMMARY:OhioMeansJobs at the Library-Dover
DESCRIPTION:We’re taking workforce services beyond our walls! \nComprehensive\, free services to support local job seekers at any stage of their career journey. \nServices include resume writing\, job matching\, interview preparation\, and assistance with unemployment claims. \nVeterans receive priority of service\, and additional support is available for individuals facing employment barriers. \nTools and resources include:\n• Resume creation\, review\, and optimization\n• Job lead matching with local employers\n• Access to Big Interview (online interview prep platform)\n• Chromebook checkouts for video interviews *In Center Only\n• Support with applications\, onboarding\, and more\nConnect with local employers\, explore new career opportunities\, and build the skills and confidence to succeed in today’s job market. Don’t miss this chance to take your career to the next level. \n  \nOhioMeansJobs in the Community
URL:https://www.omjwork.com/event/ohiomeansjobs-at-the-library-dover-7/
LOCATION:Dover Public Library\, 525 N. Walnut St.\, Dover\, OH\, 44622\, United States
CATEGORIES:Access Point Locations,Job Seekers
ATTACH;FMTTYPE=image/png:https://www.omjwork.com/wp-content/uploads/2024/09/Access-point-image-for-calendar-e1727376185127.png
END:VEVENT
BEGIN:VEVENT
DTSTART;TZID=America/New_York:20260325T023000
DTEND;TZID=America/New_York:20260325T163000
DTSTAMP:20260420T155048
CREATED:20260302T172128Z
LAST-MODIFIED:20260302T172128Z
UID:5443-1774405800-1774456200@www.omjwork.com
SUMMARY:OhioMeansJobs at the Library–Stark Main
DESCRIPTION:We’re taking workforce services beyond our walls! \nComprehensive\, free services to support local job seekers at any stage of their career journey. \nServices include resume writing\, job matching\, interview preparation\, and assistance with unemployment claims. \nVeterans receive priority of service\, and additional support is available for individuals facing employment barriers. \nTools and resources include:\n• Resume creation\, review\, and optimization\n• Job lead matching with local employers\n• Access to Big Interview (online interview prep platform)\n• Chromebook checkouts for video interviews *In Center Only\n• Support with applications\, onboarding\, and more\nConnect with local employers\, explore new career opportunities\, and build the skills and confidence to succeed in today’s job market. Don’t miss this chance to take your career to the next level. \nOhioMeansJobs in the Community
URL:https://www.omjwork.com/event/ohiomeansjobs-at-the-library-stark-main-7/
LOCATION:Stark Library\, 715 Market Ave N\, North Canton\, OH\, 44702\, United States
CATEGORIES:Access Point Locations,Job Seekers
ATTACH;FMTTYPE=image/png:https://www.omjwork.com/wp-content/uploads/2024/09/Access-point-image-for-calendar-e1727376185127.png
END:VEVENT
END:VCALENDAR