BEGIN:VCALENDAR
VERSION:2.0
PRODID:-//OhioMeansJobs - ECPv6.15.20//NONSGML v1.0//EN
CALSCALE:GREGORIAN
METHOD:PUBLISH
X-WR-CALNAME:OhioMeansJobs
X-ORIGINAL-URL:https://www.omjwork.com
X-WR-CALDESC:Events for OhioMeansJobs
REFRESH-INTERVAL;VALUE=DURATION:PT1H
X-Robots-Tag:noindex
X-PUBLISHED-TTL:PT1H
BEGIN:VTIMEZONE
TZID:America/New_York
BEGIN:DAYLIGHT
TZOFFSETFROM:-0500
TZOFFSETTO:-0400
TZNAME:EDT
DTSTART:20250309T070000
END:DAYLIGHT
BEGIN:STANDARD
TZOFFSETFROM:-0400
TZOFFSETTO:-0500
TZNAME:EST
DTSTART:20251102T060000
END:STANDARD
BEGIN:DAYLIGHT
TZOFFSETFROM:-0500
TZOFFSETTO:-0400
TZNAME:EDT
DTSTART:20260308T070000
END:DAYLIGHT
BEGIN:STANDARD
TZOFFSETFROM:-0400
TZOFFSETTO:-0500
TZNAME:EST
DTSTART:20261101T060000
END:STANDARD
BEGIN:DAYLIGHT
TZOFFSETFROM:-0500
TZOFFSETTO:-0400
TZNAME:EDT
DTSTART:20270314T070000
END:DAYLIGHT
BEGIN:STANDARD
TZOFFSETFROM:-0400
TZOFFSETTO:-0500
TZNAME:EST
DTSTART:20271107T060000
END:STANDARD
END:VTIMEZONE
BEGIN:VEVENT
DTSTART;TZID=America/New_York:20260325T023000
DTEND;TZID=America/New_York:20260325T163000
DTSTAMP:20260423T173428
CREATED:20260302T172128Z
LAST-MODIFIED:20260302T172128Z
UID:5443-1774405800-1774456200@www.omjwork.com
SUMMARY:OhioMeansJobs at the Library–Stark Main
DESCRIPTION:We’re taking workforce services beyond our walls! \nComprehensive\, free services to support local job seekers at any stage of their career journey. \nServices include resume writing\, job matching\, interview preparation\, and assistance with unemployment claims. \nVeterans receive priority of service\, and additional support is available for individuals facing employment barriers. \nTools and resources include:\n• Resume creation\, review\, and optimization\n• Job lead matching with local employers\n• Access to Big Interview (online interview prep platform)\n• Chromebook checkouts for video interviews *In Center Only\n• Support with applications\, onboarding\, and more\nConnect with local employers\, explore new career opportunities\, and build the skills and confidence to succeed in today’s job market. Don’t miss this chance to take your career to the next level. \nOhioMeansJobs in the Community
URL:https://www.omjwork.com/event/ohiomeansjobs-at-the-library-stark-main-7/
LOCATION:Stark Library\, 715 Market Ave N\, North Canton\, OH\, 44702\, United States
CATEGORIES:Access Point Locations,Job Seekers
ATTACH;FMTTYPE=image/png:https://www.omjwork.com/wp-content/uploads/2024/09/Access-point-image-for-calendar-e1727376185127.png
END:VEVENT
BEGIN:VEVENT
DTSTART;VALUE=DATE:20260403
DTEND;VALUE=DATE:20260404
DTSTAMP:20260423T173428
CREATED:20260401T235408Z
LAST-MODIFIED:20260401T235445Z
UID:5461-1775174400-1775260799@www.omjwork.com
SUMMARY:Closed in Observance of Good Friday
DESCRIPTION:OhioMeansJobs Stark & Tuscarawas Counties will be closed on Friday\, April 3\, in observance of Good Friday.Regular business hours resume Monday\, April 6.
URL:https://www.omjwork.com/event/closed-in-observance-of-good-friday-2/
LOCATION:OH
ATTACH;FMTTYPE=image/png:https://www.omjwork.com/wp-content/uploads/2026/04/HOLIDAY-CLOSED-Website-1.png
END:VEVENT
BEGIN:VEVENT
DTSTART;TZID=America/New_York:20260406T100000
DTEND;TZID=America/New_York:20260406T120000
DTSTAMP:20260423T173428
CREATED:20260330T203747Z
LAST-MODIFIED:20260330T203747Z
UID:5458-1775469600-1775476800@www.omjwork.com
SUMMARY:AZZ Galvanizing - Canton East Hiring Event
DESCRIPTION:AZZ Galvanizing – Canton East is looking for motivated individuals ready to start (or grow!) their careers.\n\nHiring Event Location:OhioMeansJobs Tuscarawas County1260 Monroe St.\, Suite 35\, New Philadelphia\, OH 44663\n\nMonday\, April 610:00 a.m. – 12:00 p.m.\n\nIf you’re looking for a full-time opportunity with benefits\, this is your chance!\n\nNow Hiring:• Maintenance Technician• Production Worker (First & Second Shifts)\n\nCompetitive opportunities. Stable\, full-time work. Great benefits.\n\nDon’t wait—take the first step toward your next career move today!\nVisit www.OhioMeansJobs.com\nEnter AZZ OMJST in the search boxSelect the position to view full job details\n\n\nAZZ Galvanizing – Canton East is hiring maintenance technicians and production workers at a hiring event on April 6 at OhioMeansJobs Tuscarawas County.\nCome prepared. Bring your resume (need a resume\, we can help). Be ready to make your move. \nYour next opportunity starts April 6th — we’ll see you there!
URL:https://www.omjwork.com/event/azz-galvanizing-canton-east-hiring-event-2/
LOCATION:Tuscarawas County OhioMeansJobs Center\, 1260 Monroe St. Suite 35\, New Philadelphia\, 44663\, United States
CATEGORIES:Job Seekers
ATTACH;FMTTYPE=image/png:https://www.omjwork.com/wp-content/uploads/2026/03/Hiring-Event-Google1200-x-900-px-2.png
END:VEVENT
BEGIN:VEVENT
DTSTART;TZID=America/New_York:20260409T110000
DTEND;TZID=America/New_York:20260409T140000
DTSTAMP:20260423T173428
CREATED:20260320T175022Z
LAST-MODIFIED:20260320T175022Z
UID:5446-1775732400-1775743200@www.omjwork.com
SUMMARY:Alliance Area Career Fair
DESCRIPTION:Looking for your next job or career opportunity? Join us!\n\nThe Alliance Area Career Fair brings together local employers\, career resources\, and job seekers—all in one place.\n\nWhether you’re actively searching\, exploring new options\, or planning your next move\, this event is designed to help you take the next step.\n\nEvent DetailsDate: April 9\, 2026Time: 11:00 AM – 2:00 PMLocation: McPherson Academic and Athletic ComplexThe University of Mount Union\, Alliance\, Ohio\n\nWhat to expect: Meet local and regional employers Learn about current job openings Build connections that can lead to your next opportunity\n\nThis event is open to the public.\nAll individuals interested in learning more about employment opportunities in the region are encouraged to attend.\n\nHosted by:OhioMeansJobs Stark & Tuscarawas CountiesUniversity of Mount UnionAlliance Area Chamber of CommerceAlliance Area Development\n\nMore details coming soon—mark your calendar and invite a friend!\nYour next opportunity starts here.\n\nConnect with local employers and explore new career opportunities at the Alliance Area Career Fair.\nShare this event with friends or family who are job searching
URL:https://www.omjwork.com/event/alliance-area-career-fair-2/
LOCATION:University of Mount Union\, 1972 Clark Ave\, Alliance\, OH\, 44601\, United States
CATEGORIES:In Demand,Job Seekers
ATTACH;FMTTYPE=image/png:https://www.omjwork.com/wp-content/uploads/2026/03/AACF-Event-Facebook-Post-1.png
END:VEVENT
BEGIN:VEVENT
DTSTART;VALUE=DATE:20260428
DTEND;VALUE=DATE:20260502
DTSTAMP:20260423T173428
CREATED:20260423T171932Z
LAST-MODIFIED:20260423T171932Z
UID:5540-1777334400-1777679999@www.omjwork.com
SUMMARY:National Apprenticeship Week
DESCRIPTION:Join us in recognizing National Apprenticeship Week\, a nationwide celebration highlighting the value of apprenticeship programs in building strong career pathways. \nApprenticeships allow individuals to earn while they learn\, gaining hands-on experience\, industry-recognized credentials\, and direct connections to employers in high-demand fields such as healthcare\, manufacturing\, construction\, transportation\, and technology. \nThroughout the week\, organizations across the country will promote apprenticeship opportunities\, share success stories\, and connect job seekers with training and employment pathways that lead to long-term careers. \nExplore apprenticeship opportunities and discover career pathways where you can earn while you learn.\nFor more information about local apprenticeship opportunities\, contact us to learn how to get started.
URL:https://www.omjwork.com/event/national-apprenticeship-week/
LOCATION:OH
CATEGORIES:Job Seekers
ATTACH;FMTTYPE=image/png:https://www.omjwork.com/wp-content/uploads/2026/04/Apprenticeship-Week.png
END:VEVENT
BEGIN:VEVENT
DTSTART;VALUE=DATE:20260504
DTEND;VALUE=DATE:20260509
DTSTAMP:20260423T173428
CREATED:20260423T173454Z
LAST-MODIFIED:20260423T173547Z
UID:5542-1777852800-1778284799@www.omjwork.com
SUMMARY:In-Demand Jobs Week
DESCRIPTION:In-Demand Jobs Week is a statewide initiative highlighting Ohio’s most essential and fastest-growing industries\, including healthcare\, manufacturing\, technology\, skilled trades\, and transportation. Throughout the week\, job seekers are encouraged to explore career opportunities\, attend local events\, and connect with employers and training providers across their region. \nA key feature of the week includes Mini Resource Fairs\, offering hands-on support and direct access to local workforce resources. These events provide opportunities to meet employers\, explore training programs\, and take part in interactive services such as the Resume Blitz—where attendees can receive quick resume assistance or updates—and the Job Matching Challenge\, where participants can connect their experience with real job leads. \nThis week is designed to showcase the wide range of career pathways available in Ohio—many offering strong wages\, advancement opportunities\, and training options that support long-term success. Whether you are just starting your career\, looking to change direction\, or ready to grow in your current field\, In-Demand Jobs Week is a great time to get connected and take the next step. \nIn-Demand Jobs Week 2026 Schedule \nStark County: \nEmployers & training partners onsite\nMini workshops and presentations\nShort-term credential & training programs\nFunding and support resources\nResource Room featuring Resume Blitz & Job Matching Challenge \n  \nMonday – Healthcare & Human Services \n9:00–11:00 AM\nMini Resource Fair + Career Exploration \nTuesday – Manufacturing & Skilled Trades \n9:00–11:00 AM\nMini Resource Fair + Apprenticeship Focus \nWednesday – No Scheduled Events \nThursday – Computers & Technology \n9:00–11:00 AM\nMini Resource Fair + Tech Career Support \nFriday – Distribution\, Logistics & Transportation \n9:00–11:00 AM\nMini Resource Fair + Transportation Careers \nTuscarawas County Event\nMulti-Industry Career Exploration Event \n2:00–4:00 PM \nEmployers & training partners onsite\nMini workshops and presentations\nShort-term credential & training programs\nFunding and support resources\nResource Room featuring Resume Blitz & Job Matching Challenge \nExplore careers\, attend events\, and connect with employers during In-Demand Jobs Week 2026.
URL:https://www.omjwork.com/event/in-demand-jobs-week/
LOCATION:OH
CATEGORIES:Job Seekers
ATTACH;FMTTYPE=image/png:https://www.omjwork.com/wp-content/uploads/2026/04/IN-DEMAND-JOBS-Facebook-Post.png
END:VEVENT
BEGIN:VEVENT
DTSTART;TZID=America/New_York:20260623T080000
DTEND;TZID=America/New_York:20260623T100000
DTSTAMP:20260423T173428
CREATED:20260203T185227Z
LAST-MODIFIED:20260203T185227Z
UID:5417-1782201600-1782208800@www.omjwork.com
SUMMARY:The Workforce Initiative Association and Stark Tuscarawas Workforce Development Board Meeting
DESCRIPTION:PUBLIC NOTICE\nCouncil of Governments Board Meeting \nNotice is hereby given that The Workforce Initiative Association and Stark Tuscarawas Workforce Development Board will hold a regular meeting as follows: \nJune 23\, 2026\n8:00 A.M.\n822 30th Street\, Canton\, OH 44709 \nThe meeting is open to the public and will be conducted in accordance with Ohio Revised Code Section 121.22. \nIf you have any questions or need additional information\, please contact Rena Wright\nMarketing and Communications Manager at rwright@omjwork.com or 330-491-2644.
URL:https://www.omjwork.com/event/the-workforce-initiative-association-and-stark-tuscarawas-workforce-development-board-meeting/
LOCATION:Stark County OhioMeansJobs Center\, 822 30th Street\, Canton\, 44709\, United States
END:VEVENT
END:VCALENDAR