BEGIN:VCALENDAR
VERSION:2.0
PRODID:-//OhioMeansJobs - ECPv6.15.20//NONSGML v1.0//EN
CALSCALE:GREGORIAN
METHOD:PUBLISH
X-WR-CALNAME:OhioMeansJobs
X-ORIGINAL-URL:https://www.omjwork.com
X-WR-CALDESC:Events for OhioMeansJobs
REFRESH-INTERVAL;VALUE=DURATION:PT1H
X-Robots-Tag:noindex
X-PUBLISHED-TTL:PT1H
BEGIN:VTIMEZONE
TZID:America/New_York
BEGIN:DAYLIGHT
TZOFFSETFROM:-0500
TZOFFSETTO:-0400
TZNAME:EDT
DTSTART:20240310T070000
END:DAYLIGHT
BEGIN:STANDARD
TZOFFSETFROM:-0400
TZOFFSETTO:-0500
TZNAME:EST
DTSTART:20241103T060000
END:STANDARD
BEGIN:DAYLIGHT
TZOFFSETFROM:-0500
TZOFFSETTO:-0400
TZNAME:EDT
DTSTART:20250309T070000
END:DAYLIGHT
BEGIN:STANDARD
TZOFFSETFROM:-0400
TZOFFSETTO:-0500
TZNAME:EST
DTSTART:20251102T060000
END:STANDARD
BEGIN:DAYLIGHT
TZOFFSETFROM:-0500
TZOFFSETTO:-0400
TZNAME:EDT
DTSTART:20260308T070000
END:DAYLIGHT
BEGIN:STANDARD
TZOFFSETFROM:-0400
TZOFFSETTO:-0500
TZNAME:EST
DTSTART:20261101T060000
END:STANDARD
END:VTIMEZONE
BEGIN:VEVENT
DTSTART;TZID=America/New_York:20250828T110000
DTEND;TZID=America/New_York:20250828T130000
DTSTAMP:20260420T101754
CREATED:20250806T142244Z
LAST-MODIFIED:20250806T142244Z
UID:5167-1756378800-1756386000@www.omjwork.com
SUMMARY:OhioMeansJobs at Alliance Commons
DESCRIPTION:We’re taking workforce services beyond our walls! \nComprehensive\, free services to support local job seekers at any stage of their career journey. Services include resume writing\, job matching\, interview preparation\, and assistance with unemployment claims. Veterans receive priority of service\, and additional support is available for individuals facing employment barriers.\nTools and resources include:\n• Resume creation and review\n• Job lead matching with local employers\n• Access to Big Interview (online interview prep platform)\n• Chromebook checkouts for video interviews\n• Support with applications\, onboarding\, and more \nOhioMeansJobs in the Community
URL:https://www.omjwork.com/event/ohiomeansjobs-at-alliance-commons-4/
LOCATION:Alliance Commons\, 405 S Linden Ave\, Alliance\, OH\, 44601\, United States
CATEGORIES:Access Point Locations,Job Seekers
ATTACH;FMTTYPE=image/png:https://www.omjwork.com/wp-content/uploads/2024/09/Access-point-image-for-calendar-e1727376185127.png
END:VEVENT
BEGIN:VEVENT
DTSTART;TZID=America/New_York:20250828T160000
DTEND;TZID=America/New_York:20250828T180000
DTSTAMP:20260420T101754
CREATED:20230815T145645Z
LAST-MODIFIED:20250826T153543Z
UID:3979-1756396800-1756404000@www.omjwork.com
SUMMARY:Black College Football Hall of Fame Community Career Fair
DESCRIPTION:Join us for the Black College Football Hall of Fame Career Fair on August 28 from 4-6PM. \nFor more information\, including employers\, and resume information: www.omjwork.com/careerfair
URL:https://www.omjwork.com/event/community-career-fair/
LOCATION:Timken Career Campus\, 521 Tuscarawas St. W\, Canton\, OH\, 44702\, United States
CATEGORIES:Job Seekers
ATTACH;FMTTYPE=image/png:https://www.omjwork.com/wp-content/uploads/2023/08/Screenshot-2025-08-05-132231.png
END:VEVENT
END:VCALENDAR