BEGIN:VCALENDAR
VERSION:2.0
PRODID:-//OhioMeansJobs - ECPv6.15.20//NONSGML v1.0//EN
CALSCALE:GREGORIAN
METHOD:PUBLISH
X-WR-CALNAME:OhioMeansJobs
X-ORIGINAL-URL:https://www.omjwork.com
X-WR-CALDESC:Events for OhioMeansJobs
REFRESH-INTERVAL;VALUE=DURATION:PT1H
X-Robots-Tag:noindex
X-PUBLISHED-TTL:PT1H
BEGIN:VTIMEZONE
TZID:America/New_York
BEGIN:DAYLIGHT
TZOFFSETFROM:-0500
TZOFFSETTO:-0400
TZNAME:EDT
DTSTART:20240310T070000
END:DAYLIGHT
BEGIN:STANDARD
TZOFFSETFROM:-0400
TZOFFSETTO:-0500
TZNAME:EST
DTSTART:20241103T060000
END:STANDARD
BEGIN:DAYLIGHT
TZOFFSETFROM:-0500
TZOFFSETTO:-0400
TZNAME:EDT
DTSTART:20250309T070000
END:DAYLIGHT
BEGIN:STANDARD
TZOFFSETFROM:-0400
TZOFFSETTO:-0500
TZNAME:EST
DTSTART:20251102T060000
END:STANDARD
BEGIN:DAYLIGHT
TZOFFSETFROM:-0500
TZOFFSETTO:-0400
TZNAME:EDT
DTSTART:20260308T070000
END:DAYLIGHT
BEGIN:STANDARD
TZOFFSETFROM:-0400
TZOFFSETTO:-0500
TZNAME:EST
DTSTART:20261101T060000
END:STANDARD
END:VTIMEZONE
BEGIN:VEVENT
DTSTART;TZID=America/New_York:20250618T100000
DTEND;TZID=America/New_York:20250618T140000
DTSTAMP:20260422T055002
CREATED:20250205T205122Z
LAST-MODIFIED:20250521T153642Z
UID:4820-1750240800-1750255200@www.omjwork.com
SUMMARY:Tuscarawas County Main-OhioMeansJobs at the Library
DESCRIPTION:Need job search\, resume\, or interview assistance? \nWe will be at the Tuscarawas County Public Library to assist you with all your job search needs!
URL:https://www.omjwork.com/event/access-point-visit-7-3-4/
LOCATION:Tuscarawas County Public Library\, 121 Fair Ave. NW\, New Philadelphia\, OH\, 44663\, United States
CATEGORIES:Access Point Locations
ATTACH;FMTTYPE=image/png:https://www.omjwork.com/wp-content/uploads/2024/09/Access-point-image-for-calendar-e1727376185127.png
END:VEVENT
BEGIN:VEVENT
DTSTART;TZID=America/New_York:20250618T140000
DTEND;TZID=America/New_York:20250618T160000
DTSTAMP:20260422T055002
CREATED:20250204T184118Z
LAST-MODIFIED:20250521T144213Z
UID:4807-1750255200-1750262400@www.omjwork.com
SUMMARY:Stark Library Main-OhioMeansJobs at the Library
DESCRIPTION:Need job search\, resume\, or interview assistance? \nWe will be at the Stark Library to assist you with all your job search needs!
URL:https://www.omjwork.com/event/access-point-visit-stark-2-2-4/
LOCATION:Stark Library\, 715 Market Ave N\, North Canton\, OH\, 44702\, United States
CATEGORIES:Access Point Locations
ATTACH;FMTTYPE=image/png:https://www.omjwork.com/wp-content/uploads/2024/09/Access-point-image-for-calendar-e1727376185127.png
END:VEVENT
END:VCALENDAR