BEGIN:VCALENDAR
VERSION:2.0
PRODID:-//OhioMeansJobs - ECPv6.15.20//NONSGML v1.0//EN
CALSCALE:GREGORIAN
METHOD:PUBLISH
X-ORIGINAL-URL:https://www.omjwork.com
X-WR-CALDESC:Events for OhioMeansJobs
REFRESH-INTERVAL;VALUE=DURATION:PT1H
X-Robots-Tag:noindex
X-PUBLISHED-TTL:PT1H
BEGIN:VTIMEZONE
TZID:America/New_York
BEGIN:DAYLIGHT
TZOFFSETFROM:-0500
TZOFFSETTO:-0400
TZNAME:EDT
DTSTART:20240310T070000
END:DAYLIGHT
BEGIN:STANDARD
TZOFFSETFROM:-0400
TZOFFSETTO:-0500
TZNAME:EST
DTSTART:20241103T060000
END:STANDARD
BEGIN:DAYLIGHT
TZOFFSETFROM:-0500
TZOFFSETTO:-0400
TZNAME:EDT
DTSTART:20250309T070000
END:DAYLIGHT
BEGIN:STANDARD
TZOFFSETFROM:-0400
TZOFFSETTO:-0500
TZNAME:EST
DTSTART:20251102T060000
END:STANDARD
BEGIN:DAYLIGHT
TZOFFSETFROM:-0500
TZOFFSETTO:-0400
TZNAME:EDT
DTSTART:20260308T070000
END:DAYLIGHT
BEGIN:STANDARD
TZOFFSETFROM:-0400
TZOFFSETTO:-0500
TZNAME:EST
DTSTART:20261101T060000
END:STANDARD
END:VTIMEZONE
BEGIN:VEVENT
DTSTART;TZID=America/New_York:20250605T100000
DTEND;TZID=America/New_York:20250605T140000
DTSTAMP:20260421T124035
CREATED:20250528T162905Z
LAST-MODIFIED:20250528T162905Z
UID:4995-1749117600-1749132000@www.omjwork.com
SUMMARY:Urban Air Adventure Park Hiring Event
DESCRIPTION:Hiring event held at the Stark County center on June 5th from 10AM-2PM \nNow hiring:\nPark Lead\nTeam member\nParty Host\nParty Coordinator\nCafe Lead\nCafe BOH/ FOH Team Member
URL:https://www.omjwork.com/event/urban-air-adventure-park-hiring-event/
LOCATION:Stark County OhioMeansJobs Center\, 822 30th Street\, Canton\, 44709\, United States
CATEGORIES:Job Seekers
ATTACH;FMTTYPE=image/png:https://www.omjwork.com/wp-content/uploads/2025/05/xyz.png
END:VEVENT
BEGIN:VEVENT
DTSTART;TZID=America/New_York:20250605T110000
DTEND;TZID=America/New_York:20250605T130000
DTSTAMP:20260421T124035
CREATED:20240926T162338Z
LAST-MODIFIED:20250521T145147Z
UID:4649-1749121200-1749128400@www.omjwork.com
SUMMARY:OhioMeansJobs at Alliance Commons
DESCRIPTION:Need job search\, resume\, or interview assistance? \nWe will be at the Alliance Commons to assist you with all your job search needs!
URL:https://www.omjwork.com/event/access-point-visit-4-2/
LOCATION:Alliance Commons\, 405 S Linden Ave\, Alliance\, OH\, 44601\, United States
CATEGORIES:Access Point Locations
ATTACH;FMTTYPE=image/png:https://www.omjwork.com/wp-content/uploads/2024/09/Access-point-image-for-calendar-e1727376185127.png
END:VEVENT
END:VCALENDAR