BEGIN:VCALENDAR
VERSION:2.0
PRODID:-//OhioMeansJobs - ECPv6.15.20//NONSGML v1.0//EN
CALSCALE:GREGORIAN
METHOD:PUBLISH
X-ORIGINAL-URL:https://www.omjwork.com
X-WR-CALDESC:Events for OhioMeansJobs
REFRESH-INTERVAL;VALUE=DURATION:PT1H
X-Robots-Tag:noindex
X-PUBLISHED-TTL:PT1H
BEGIN:VTIMEZONE
TZID:America/New_York
BEGIN:DAYLIGHT
TZOFFSETFROM:-0500
TZOFFSETTO:-0400
TZNAME:EDT
DTSTART:20230312T070000
END:DAYLIGHT
BEGIN:STANDARD
TZOFFSETFROM:-0400
TZOFFSETTO:-0500
TZNAME:EST
DTSTART:20231105T060000
END:STANDARD
BEGIN:DAYLIGHT
TZOFFSETFROM:-0500
TZOFFSETTO:-0400
TZNAME:EDT
DTSTART:20240310T070000
END:DAYLIGHT
BEGIN:STANDARD
TZOFFSETFROM:-0400
TZOFFSETTO:-0500
TZNAME:EST
DTSTART:20241103T060000
END:STANDARD
BEGIN:DAYLIGHT
TZOFFSETFROM:-0500
TZOFFSETTO:-0400
TZNAME:EDT
DTSTART:20250309T070000
END:DAYLIGHT
BEGIN:STANDARD
TZOFFSETFROM:-0400
TZOFFSETTO:-0500
TZNAME:EST
DTSTART:20251102T060000
END:STANDARD
END:VTIMEZONE
BEGIN:VEVENT
DTSTART;TZID=America/New_York:20241203T100000
DTEND;TZID=America/New_York:20241203T120000
DTSTAMP:20260423T123513
CREATED:20240926T193537Z
LAST-MODIFIED:20240926T193537Z
UID:4670-1733220000-1733227200@www.omjwork.com
SUMMARY:DeHoff Memorial-OhioMeansJobs at the Library
DESCRIPTION:Need job search\, resume\, or interview assistance? \nWe will be at the Stark Library-DeHoff Memorial Branch to assist you with all your job search needs!
URL:https://www.omjwork.com/event/access-point-visit-dehoff/
LOCATION:Stark Library – DeHoff Memorial Branch\, 216 Hartford Ave. SE\, Canton\, OH\, 44707\, United States
CATEGORIES:Access Point Locations
ATTACH;FMTTYPE=image/png:https://www.omjwork.com/wp-content/uploads/2024/09/Access-point-image-for-calendar-e1727376185127.png
END:VEVENT
BEGIN:VEVENT
DTSTART;TZID=America/New_York:20241203T100000
DTEND;TZID=America/New_York:20241203T130000
DTSTAMP:20260423T123513
CREATED:20220802T151646Z
LAST-MODIFIED:20241126T163331Z
UID:3042-1733220000-1733230800@www.omjwork.com
SUMMARY:HPC Industrial Hiring Event
DESCRIPTION:Join us at the OhioMeansJobs center in Canton to meet with HPC Industrial Powered by Clean Harbors. \nHiring for Equipment Technicians at $20 per hr plus $35 per diem!
URL:https://www.omjwork.com/event/hpc-industrial-hiring-event/
LOCATION:Stark County OhioMeansJobs Center\, 822 30th Street\, Canton\, 44709\, United States
CATEGORIES:Job Seekers
ATTACH;FMTTYPE=image/png:https://www.omjwork.com/wp-content/uploads/2022/08/Untitled-design-40-e1673457101277.png
END:VEVENT
END:VCALENDAR