BEGIN:VCALENDAR
VERSION:2.0
PRODID:-//OhioMeansJobs - ECPv6.15.20//NONSGML v1.0//EN
CALSCALE:GREGORIAN
METHOD:PUBLISH
X-WR-CALNAME:OhioMeansJobs
X-ORIGINAL-URL:https://www.omjwork.com
X-WR-CALDESC:Events for OhioMeansJobs
REFRESH-INTERVAL;VALUE=DURATION:PT1H
X-Robots-Tag:noindex
X-PUBLISHED-TTL:PT1H
BEGIN:VTIMEZONE
TZID:America/New_York
BEGIN:DAYLIGHT
TZOFFSETFROM:-0500
TZOFFSETTO:-0400
TZNAME:EDT
DTSTART:20230312T070000
END:DAYLIGHT
BEGIN:STANDARD
TZOFFSETFROM:-0400
TZOFFSETTO:-0500
TZNAME:EST
DTSTART:20231105T060000
END:STANDARD
BEGIN:DAYLIGHT
TZOFFSETFROM:-0500
TZOFFSETTO:-0400
TZNAME:EDT
DTSTART:20240310T070000
END:DAYLIGHT
BEGIN:STANDARD
TZOFFSETFROM:-0400
TZOFFSETTO:-0500
TZNAME:EST
DTSTART:20241103T060000
END:STANDARD
BEGIN:DAYLIGHT
TZOFFSETFROM:-0500
TZOFFSETTO:-0400
TZNAME:EDT
DTSTART:20250309T070000
END:DAYLIGHT
BEGIN:STANDARD
TZOFFSETFROM:-0400
TZOFFSETTO:-0500
TZNAME:EST
DTSTART:20251102T060000
END:STANDARD
END:VTIMEZONE
BEGIN:VEVENT
DTSTART;TZID=America/New_York:20240716T100000
DTEND;TZID=America/New_York:20240716T120000
DTSTAMP:20260422T100304
CREATED:20240307T181233Z
LAST-MODIFIED:20240709T144004Z
UID:4255-1721124000-1721131200@www.omjwork.com
SUMMARY:Career Concept Hiring Event
DESCRIPTION:Join us at the OhioMeansJobs Center in Canton to meet with Career Concept! \nNow hiring:\nWelders at $20.75-$27.50 per hour
URL:https://www.omjwork.com/event/career-concept-hiring-event/
LOCATION:Stark County OhioMeansJobs Center\, 822 30th Street\, Canton\, 44709\, United States
CATEGORIES:Job Seekers
ATTACH;FMTTYPE=image/jpeg:https://www.omjwork.com/wp-content/uploads/2024/03/Untitled-design-18.jpg
END:VEVENT
END:VCALENDAR